BEGIN:VCALENDAR
VERSION:2.0
PRODID:-//wp-events-plugin.com//7.2.3.1//EN
TZID:Europe/Amsterdam
X-WR-TIMEZONE:Europe/Amsterdam
BEGIN:VEVENT
UID:1664@worldglaucomaweek.org
DTSTART;TZID=Europe/Amsterdam:20180312T160000
DTEND;TZID=Europe/Amsterdam:20180312T170000
DTSTAMP:20180216T155803Z
URL:https://www.worldglaucomaweek.org/activity/charla-para-pacientes-2/
SUMMARY:Charla para pacientes
DESCRIPTION:Charla para pacientes
ATTACH;FMTTYPE=image/jpeg:https://www.worldglaucomaweek.org/wp-content/upl
 oads/2018/02/Imagen-1-8.png
CATEGORIES:Public educational
LOCATION:Clinica  Clofan\, Carrera 48 No. 19 A - 40\,\, Medellin\, Antioqui
 a\, Colombia
GEO:6.2309556;-75.5745043
X-APPLE-STRUCTURED-LOCATION;VALUE=URI;X-ADDRESS=Carrera 48 No. 19 A - 40\,\
 , Medellin\, Antioquia\, Colombia;X-APPLE-RADIUS=100;X-TITLE=Clinica  Clof
 an:geo:6.2309556,-75.5745043
END:VEVENT
BEGIN:VTIMEZONE
TZID:Europe/Amsterdam
X-LIC-LOCATION:Europe/Amsterdam
BEGIN:STANDARD
DTSTART:20171029T020000
TZOFFSETFROM:+0200
TZOFFSETTO:+0100
TZNAME:CET
END:STANDARD
END:VTIMEZONE
END:VCALENDAR