BEGIN:VCALENDAR
VERSION:2.0
PRODID:-//wp-events-plugin.com//7.2.3.1//EN
TZID:Europe/Amsterdam
X-WR-TIMEZONE:Europe/Amsterdam
BEGIN:VEVENT
UID:2115@worldglaucomaweek.org
DTSTART;TZID=Europe/Amsterdam:20180315T100000
DTEND;TZID=Europe/Amsterdam:20180315T110000
DTSTAMP:20180312T204300Z
URL:https://www.worldglaucomaweek.org/activity/charla-para-medicos-oftalmo
 logos/
SUMMARY:Charla para médicos oftalmólogos
DESCRIPTION:\n\n\nCharla para médicos oftalmólogos\n\n\n
ATTACH;FMTTYPE=image/jpeg:https://www.worldglaucomaweek.org/wp-content/upl
 oads/2018/03/Imagen-2.png
CATEGORIES:Public educational
LOCATION:Clinica Oftalmologica San Diego\,  Cra. 43 # 29-35\, Medellin\, Co
 lombia
GEO:6.2290211;-75.5690621
X-APPLE-STRUCTURED-LOCATION;VALUE=URI;X-ADDRESS= Cra. 43 # 29-35\, Medellin
 \, Colombia;X-APPLE-RADIUS=100;X-TITLE=Clinica Oftalmologica San Diego:geo
 :6.2290211,-75.5690621
END:VEVENT
BEGIN:VTIMEZONE
TZID:Europe/Amsterdam
X-LIC-LOCATION:Europe/Amsterdam
BEGIN:STANDARD
DTSTART:20171029T020000
TZOFFSETFROM:+0200
TZOFFSETTO:+0100
TZNAME:CET
END:STANDARD
END:VTIMEZONE
END:VCALENDAR