BEGIN:VCALENDAR
VERSION:2.0
PRODID:-//wp-events-plugin.com//7.2.3.1//EN
TZID:Europe/Amsterdam
X-WR-TIMEZONE:Europe/Amsterdam
BEGIN:VEVENT
UID:2761@worldglaucomaweek.org
DTSTART;TZID=Europe/Amsterdam:20190314T073000
DTEND;TZID=Europe/Amsterdam:20190314T090000
DTSTAMP:20190308T171043Z
URL:https://www.worldglaucomaweek.org/activity/charla-de-glaucoma-a-repres
 entantes-de-aseguradoras/
SUMMARY:Charla de Glaucoma a representantes de aseguradoras
DESCRIPTION:La Clínica Oftalmológica del Caribe realizará una charla dir
 igida a los directores médicos\, autorizadores y directivos de las difere
 ntes aseguradoras de medicina prepagada que existen en la ciudad de Barran
 quilla con el fin de crear conciencia acerca del glaucoma\, qué es\, qué
  tratamientos existen en la actualidad\, datos y estadísticas\, prevenci
 ón.\n\nJueves 14 de marzo | 7:30 am | CC. Viva Local 337
ATTACH;FMTTYPE=image/jpeg:https://www.worldglaucomaweek.org/wp-content/upl
 oads/2019/03/glaucoma2.jpg
CATEGORIES:Public educational
LOCATION:Centro Comercial VIVA Barranquilla Local 337\, Carrera 51B #87 - 5
 0 Piso 3\, Barranquilla\, Atlántico\, 080001\, Atlántico\, Colombia
GEO:11.0031267;-74.81053739999999
X-APPLE-STRUCTURED-LOCATION;VALUE=URI;X-ADDRESS=Carrera 51B #87 - 50 Piso 3
 \, Barranquilla\, Atlántico\, 080001\, Atlántico\, Colombia;X-APPLE-RADI
 US=100;X-TITLE=Centro Comercial VIVA Barranquilla Local 337:geo:11.0031267
 ,-74.81053739999999
END:VEVENT
BEGIN:VTIMEZONE
TZID:Europe/Amsterdam
X-LIC-LOCATION:Europe/Amsterdam
BEGIN:STANDARD
DTSTART:20181028T020000
TZOFFSETFROM:+0200
TZOFFSETTO:+0100
TZNAME:CET
END:STANDARD
END:VTIMEZONE
END:VCALENDAR