BEGIN:VCALENDAR
VERSION:2.0
PRODID:-//wp-events-plugin.com//7.2.3.1//EN
TZID:Europe/Amsterdam
X-WR-TIMEZONE:Europe/Amsterdam
BEGIN:VEVENT
UID:1628@worldglaucomaweek.org
DTSTART;TZID=Europe/Amsterdam;VALUE=DATE:20180214
DTEND;TZID=Europe/Amsterdam;VALUE=DATE:20180215
DTSTAMP:20180207T201253Z
URL:https://www.worldglaucomaweek.org/activity/charla-coloquio-donde-estam
 os-en-el-tratamiento-del-glaucoma-2/
SUMMARY:CHARLA COLOQUIO: DÓNDE ESTAMOS EN EL TRATAMIENTO DEL GLAUCOMA
DESCRIPTION:Charla coloquio: dónde estamos en el tratamiento del glaucoma\
 n\nHM Madrid - Primera Planta \n\n14 de Marzo 2018 - 17 hs\n\nPonentes:\n
 \nDr. Aitor Fernández\, Dra. Susana Perucho y Dra. Teresa Colás\n\nDirig
 ido:\n\nDirigido a pacientes y familiares afectados por el glaucoma\, inte
 resados ​​en estar al día en los nuevos tratamientos médicos y quir
 úrgicos de esta patología\, de una forma sencilla amena y didáctica.\n\
 nPlazas limitadas\n\nNecesario Inscripción previa\n\nCorreo electrónico 
 para inscripciones: draitorfernandez@gmail.com\n\nTF: 696 95 65 03\n\n&nbs
 p\;
CATEGORIES:Media coverage
LOCATION:HM-Madrid\, Plaza Conde Valle Suchill 16\, Madrid\, Madrid\, 28015
 \, Madrid\, Spain
GEO:40.4312571;-3.706735799999933
X-APPLE-STRUCTURED-LOCATION;VALUE=URI;X-ADDRESS=Plaza Conde Valle Suchill 1
 6\, Madrid\, Madrid\, 28015\, Madrid\, Spain;X-APPLE-RADIUS=100;X-TITLE=HM
 -Madrid:geo:40.4312571,-3.706735799999933
END:VEVENT
BEGIN:VTIMEZONE
TZID:Europe/Amsterdam
X-LIC-LOCATION:Europe/Amsterdam
BEGIN:STANDARD
DTSTART:20171029T020000
TZOFFSETFROM:+0200
TZOFFSETTO:+0100
TZNAME:CET
END:STANDARD
END:VTIMEZONE
END:VCALENDAR