BEGIN:VCALENDAR
VERSION:2.0
PRODID:-//wp-events-plugin.com//7.2.3.1//EN
TZID:Europe/Amsterdam
X-WR-TIMEZONE:Europe/Amsterdam
BEGIN:VEVENT
UID:1629@worldglaucomaweek.org
DTSTART;TZID=Europe/Amsterdam:20180313T080000
DTEND;TZID=Europe/Amsterdam:20180313T090000
DTSTAMP:20180216T155820Z
URL:https://www.worldglaucomaweek.org/activity/charla-al-personal-de-salud
 /
SUMMARY:Charla al personal de salud
DESCRIPTION:\n\n\nCharla al personal de salud\n\n\n
ATTACH;FMTTYPE=image/jpeg:https://www.worldglaucomaweek.org/wp-content/upl
 oads/2018/02/Imagen-1-9.png
CATEGORIES:Public educational
LOCATION:Clinica Lynd Newball San Andres Islas\, Av. Providencia # 4-93\, S
 an Andres Islas\, Colombia\, Colombia
GEO:12.5812682;-81.69236890000002
X-APPLE-STRUCTURED-LOCATION;VALUE=URI;X-ADDRESS=Av. Providencia # 4-93\, Sa
 n Andres Islas\, Colombia\, Colombia;X-APPLE-RADIUS=100;X-TITLE=Clinica Ly
 nd Newball San Andres Islas:geo:12.5812682,-81.69236890000002
END:VEVENT
BEGIN:VTIMEZONE
TZID:Europe/Amsterdam
X-LIC-LOCATION:Europe/Amsterdam
BEGIN:STANDARD
DTSTART:20171029T020000
TZOFFSETFROM:+0200
TZOFFSETTO:+0100
TZNAME:CET
END:STANDARD
END:VTIMEZONE
END:VCALENDAR