BEGIN:VCALENDAR
VERSION:2.0
PRODID:-//wp-events-plugin.com//7.2.3.1//EN
TZID:Europe/Amsterdam
X-WR-TIMEZONE:Europe/Amsterdam
BEGIN:VEVENT
UID:2918@worldglaucomaweek.org
DTSTART;TZID=Europe/Amsterdam:20190311T090000
DTEND;TZID=Europe/Amsterdam:20190311T100000
DTSTAMP:20190314T141621Z
URL:https://www.worldglaucomaweek.org/activity/charla-a-pacientes-instituc
 ionales/
SUMMARY:Charla a pacientes institucionales
DESCRIPTION:
CATEGORIES:Public educational
LOCATION:CLINICA CES\,  Cra. 50a #50C-2\,\, MEDELLIN\, ANTIOQUIA\, Colombia
GEO:6.289097300000001;-75.5582076
X-APPLE-STRUCTURED-LOCATION;VALUE=URI;X-ADDRESS= Cra. 50a #50C-2\,\, MEDELL
 IN\, ANTIOQUIA\, Colombia;X-APPLE-RADIUS=100;X-TITLE=CLINICA CES:geo:6.289
 097300000001,-75.5582076
END:VEVENT
BEGIN:VTIMEZONE
TZID:Europe/Amsterdam
X-LIC-LOCATION:Europe/Amsterdam
BEGIN:STANDARD
DTSTART:20181028T020000
TZOFFSETFROM:+0200
TZOFFSETTO:+0100
TZNAME:CET
END:STANDARD
END:VTIMEZONE
END:VCALENDAR