BEGIN:VCALENDAR
VERSION:2.0
PRODID:-//wp-events-plugin.com//7.2.3.1//EN
TZID:Europe/Amsterdam
X-WR-TIMEZONE:Europe/Amsterdam
BEGIN:VEVENT
UID:2972@worldglaucomaweek.org
DTSTART;TZID=Europe/Amsterdam:20190323T190000
DTEND;TZID=Europe/Amsterdam:20190323T220000
DTSTAMP:20190318T152533Z
URL:https://www.worldglaucomaweek.org/activity/charity-event/
SUMMARY:Charity Event
DESCRIPTION:\n\n\n\n\n\n\nWe bring you UMBRA a premium dining experience in
  the dark to raise funds for a cyclodiode laser machine for the QEH. Our l
 ocal theme this year is “Improving Glaucoma Care” and this laser would
  help our very own Glaucoma Specialist\, Dr. Grosvenor do just that. This 
 year her focus is on children and babies an this laser is much needed for 
 the treatment of her littlest patients. We have little Jay diagnosed with 
 Glaucoma from birth\, who desperately needs this laser treatment. At the t
 ender age of 3\, he has had 2 eye surgeries. We have managed to save the s
 ight in his right eye and now we are fighting for the left eye.... Support
 ing UMBRA would immensely help Jay and other little ones like him. Let’s
  help our daughter of the soil fight for Jay's left eye. \n\n\n\n\n\n\n
ATTACH;FMTTYPE=image/jpeg:https://www.worldglaucomaweek.org/wp-content/upl
 oads/2019/03/Umbra-Poster.jpg
CATEGORIES:Awareness
LOCATION:Cin Cin By The Sea\, Prospect Road\, Prospect\, St. James\, Barbad
 os
GEO:13.139851017605917;-59.63722730024301
X-APPLE-STRUCTURED-LOCATION;VALUE=URI;X-ADDRESS=Prospect Road\, Prospect\, 
 St. James\, Barbados;X-APPLE-RADIUS=100;X-TITLE=Cin Cin By The Sea:geo:13.
 139851017605917,-59.63722730024301
END:VEVENT
BEGIN:VTIMEZONE
TZID:Europe/Amsterdam
X-LIC-LOCATION:Europe/Amsterdam
BEGIN:STANDARD
DTSTART:20181028T020000
TZOFFSETFROM:+0200
TZOFFSETTO:+0100
TZNAME:CET
END:STANDARD
END:VTIMEZONE
END:VCALENDAR