BEGIN:VCALENDAR
VERSION:2.0
PRODID:-//wp-events-plugin.com//7.2.3.1//EN
TZID:Europe/Amsterdam
X-WR-TIMEZONE:Europe/Amsterdam
BEGIN:VEVENT
UID:1981@worldglaucomaweek.org
DTSTART;TZID=Europe/Amsterdam:20180312T000000
DTEND;TZID=Europe/Amsterdam:20180312T000000
DTSTAMP:20180309T085913Z
URL:https://www.worldglaucomaweek.org/activity/cebu-doctors-university-hos
 pital/
SUMMARY:Cebu Doctors University Hospital
DESCRIPTION:
CATEGORIES:Public educational
LOCATION:Cebu Doctors University Hospital\, P. Larrazabal Ave.\, Mandaue\, 
 Cebu\, Philippines
GEO:10.320759;123.93451989999994
X-APPLE-STRUCTURED-LOCATION;VALUE=URI;X-ADDRESS=P. Larrazabal Ave.\, Mandau
 e\, Cebu\, Philippines;X-APPLE-RADIUS=100;X-TITLE=Cebu Doctors University 
 Hospital:geo:10.320759,123.93451989999994
END:VEVENT
BEGIN:VTIMEZONE
TZID:Europe/Amsterdam
X-LIC-LOCATION:Europe/Amsterdam
BEGIN:STANDARD
DTSTART:20171029T020000
TZOFFSETFROM:+0200
TZOFFSETTO:+0100
TZNAME:CET
END:STANDARD
END:VTIMEZONE
END:VCALENDAR