BEGIN:VCALENDAR
VERSION:2.0
PRODID:-//wp-events-plugin.com//7.2.3.1//EN
TZID:Europe/Amsterdam
X-WR-TIMEZONE:Europe/Amsterdam
BEGIN:VEVENT
UID:1902@worldglaucomaweek.org
DTSTART;TZID=Europe/Amsterdam:20180312T000000
DTEND;TZID=Europe/Amsterdam:20180316T000000
DTSTAMP:20180306T145759Z
URL:https://www.worldglaucomaweek.org/activity/cardinal-santos-medical-cen
 ter-lay-forum/
SUMMARY:Cardinal Santos Medical Center Lay Forum
DESCRIPTION:
CATEGORIES:Public educational
LOCATION:Cardinal Santos Medical Center\, Wilson Street\, San Juan\, Philip
 pines
GEO:14.5972813;121.0428091
X-APPLE-STRUCTURED-LOCATION;VALUE=URI;X-ADDRESS=Wilson Street\, San Juan\, 
 Philippines;X-APPLE-RADIUS=100;X-TITLE=Cardinal Santos Medical Center:geo:
 14.5972813,121.0428091
END:VEVENT
BEGIN:VTIMEZONE
TZID:Europe/Amsterdam
X-LIC-LOCATION:Europe/Amsterdam
BEGIN:STANDARD
DTSTART:20171029T020000
TZOFFSETFROM:+0200
TZOFFSETTO:+0100
TZNAME:CET
END:STANDARD
END:VTIMEZONE
END:VCALENDAR