BEGIN:VCALENDAR
VERSION:2.0
PRODID:-//wp-events-plugin.com//7.2.3.1//EN
TZID:Europe/Amsterdam
X-WR-TIMEZONE:Europe/Amsterdam
BEGIN:VEVENT
UID:1620@worldglaucomaweek.org
DTSTART;TZID=Europe/Amsterdam:20180312T090000
DTEND;TZID=Europe/Amsterdam:20180317T190000
DTSTAMP:20180228T101052Z
URL:https://www.worldglaucomaweek.org/activity/campana-prevencion-glaucoma
 /
SUMMARY:CAMPAÑA PREVENCIÓN  DEL GLAUCOMA
DESCRIPTION:&nbsp\;\n\nLa Semana del 12 al 17 de Marzo (Semana Mundial del 
 Glaucoma) El Servicio de Oftalmología del HM Madrid \, realizará una cam
 paña especial de prevención y diagnóstico precoz del Glaucoma\, realiza
 ndo tres actividades importantes:\n\n 	Control de la Presión Intraocular 
 a todo persona que lo solicite sin cita previa (mañanas).\n 	Realización
  de Protocolo de Glaucoma Completo a precio especial en pacientes sin aseg
 uradora.\n 	Segunda opinión en pacientes con diagnóstico previo\, cita p
 revia con el Dr. Aitor Fernández\, responsable de la Unidad de Glaucoma 
 y Catarata (M mañana/ X tarde).\n\nCualquier duda\, no duden en ponerse e
 n contacto con nosotros.\n\nwww.hmhospitales.com\n\nTeléfono de cita: 90
 2 08 98 00\n\nUn saludo\n\n&nbsp\;
CATEGORIES:Media coverage
LOCATION:HM - Madrid\, Plaza Conde Valle Suchill 16\, Madrid \, Madrid\, 28
 015\, Madrid\, Spain
GEO:40.4312571;-3.706735799999933
X-APPLE-STRUCTURED-LOCATION;VALUE=URI;X-ADDRESS=Plaza Conde Valle Suchill 1
 6\, Madrid \, Madrid\, 28015\, Madrid\, Spain;X-APPLE-RADIUS=100;X-TITLE=H
 M - Madrid:geo:40.4312571,-3.706735799999933
END:VEVENT
BEGIN:VTIMEZONE
TZID:Europe/Amsterdam
X-LIC-LOCATION:Europe/Amsterdam
BEGIN:STANDARD
DTSTART:20171029T020000
TZOFFSETFROM:+0200
TZOFFSETTO:+0100
TZNAME:CET
END:STANDARD
END:VTIMEZONE
END:VCALENDAR