BEGIN:VCALENDAR
VERSION:2.0
PRODID:-//wp-events-plugin.com//7.2.3.1//EN
TZID:Europe/Amsterdam
X-WR-TIMEZONE:Europe/Amsterdam
BEGIN:VEVENT
UID:2236@worldglaucomaweek.org
DTSTART;TZID=Europe/Amsterdam:20180316T090000
DTEND;TZID=Europe/Amsterdam:20180316T130000
DTSTAMP:20180316T130951Z
URL:https://www.worldglaucomaweek.org/activity/campana-nacional-de-detecci
 on-del-glaucoma/
SUMMARY:CAMPAÑA NACIONAL DE DETECCION DEL GLAUCOMA
DESCRIPTION:
ATTACH;FMTTYPE=image/jpeg:https://www.worldglaucomaweek.org/wp-content/upl
 oads/2018/03/campaña-glauc.jpg
CATEGORIES:Screening event
LOCATION:CONSULTORES OFTALMOLOGICOS\, MONTEVIDEO 1410\, CIUDAD AUTONOMA BUE
 NOS AIRES\, BUENOS AIRES\, 1018\, CABA\, Argentina
GEO:-34.59306;-58.38980200000003
X-APPLE-STRUCTURED-LOCATION;VALUE=URI;X-ADDRESS=MONTEVIDEO 1410\, CIUDAD AU
 TONOMA BUENOS AIRES\, BUENOS AIRES\, 1018\, CABA\, Argentina;X-APPLE-RADIU
 S=100;X-TITLE=CONSULTORES OFTALMOLOGICOS:geo:-34.59306,-58.38980200000003
END:VEVENT
BEGIN:VTIMEZONE
TZID:Europe/Amsterdam
X-LIC-LOCATION:Europe/Amsterdam
BEGIN:STANDARD
DTSTART:20171029T020000
TZOFFSETFROM:+0200
TZOFFSETTO:+0100
TZNAME:CET
END:STANDARD
END:VTIMEZONE
END:VCALENDAR