BEGIN:VCALENDAR
VERSION:2.0
PRODID:-//wp-events-plugin.com//7.2.3.1//EN
TZID:Europe/Amsterdam
X-WR-TIMEZONE:Europe/Amsterdam
BEGIN:VEVENT
UID:2135@worldglaucomaweek.org
DTSTART;TZID=Europe/Amsterdam;VALUE=DATE:20180316
DTEND;TZID=Europe/Amsterdam;VALUE=DATE:20180317
DTSTAMP:20180313T142053Z
URL:https://www.worldglaucomaweek.org/activity/campana-nacional-de-detecci
 on-del-glaucoma-2018/
SUMMARY:Campaña Nacional de Detección del Glaucoma 2018
DESCRIPTION:El Consejo Argentino de Oftalmología (CAO)\, la Asociación Ar
 gentina de Glaucoma (AsAG) y la Fundación para la Investigación del Glau
 coma (FIG) organizarán la 21ª edición de la Campaña Nacional de Detecc
 ión del Glaucoma.\n\nEl evento se desarrollará el viernes 16 de marzo de
  2018\, día en que finaliza la Semana Mundial del Glaucoma\, impulsada po
 r la World Glaucoma Association.\n\nEsta campaña se organiza ininterrumpi
 damente desde 1997 gracias a la colaboración desinteresada de centenares 
 de oftalmólogos argentinos y al apoyo de distintas empresas de la industr
 ia oftalmológica. En la actualidad\, es coordinada por los Dres. Daniel G
 rigera\, María Angélica Moussalli y Alejo Peyret.\n\nHabrán 155 sedes e
 n todo el país.
ATTACH;FMTTYPE=image/jpeg:https://www.worldglaucomaweek.org/wp-content/upl
 oads/2018/03/glaucoma-2018-afiche.jpg
CATEGORIES:Screening event
LOCATION:Consejo Argentino de Oftalmología\, Tte. Gral. Perón 1479\, Buen
 os Aires\, Buenos Aires\, C21037ACA\, Buenos Aires\, Argentina
GEO:-34.6064092;-58.38745770000003
X-APPLE-STRUCTURED-LOCATION;VALUE=URI;X-ADDRESS=Tte. Gral. Perón 1479\, Bu
 enos Aires\, Buenos Aires\, C21037ACA\, Buenos Aires\, Argentina;X-APPLE-R
 ADIUS=100;X-TITLE=Consejo Argentino de Oftalmología:geo:-34.6064092,-58.3
 8745770000003
END:VEVENT
BEGIN:VTIMEZONE
TZID:Europe/Amsterdam
X-LIC-LOCATION:Europe/Amsterdam
BEGIN:STANDARD
DTSTART:20171029T020000
TZOFFSETFROM:+0200
TZOFFSETTO:+0100
TZNAME:CET
END:STANDARD
END:VTIMEZONE
END:VCALENDAR