BEGIN:VCALENDAR
VERSION:2.0
PRODID:-//wp-events-plugin.com//7.2.3.1//EN
TZID:Europe/Amsterdam
X-WR-TIMEZONE:Europe/Amsterdam
BEGIN:VEVENT
UID:2209@worldglaucomaweek.org
DTSTART;TZID=Europe/Amsterdam:20180316T090000
DTEND;TZID=Europe/Amsterdam:20180316T130000
DTSTAMP:20180314T155301Z
URL:https://www.worldglaucomaweek.org/activity/campana-nacional-de-detecci
 on-de-glaucoma/
SUMMARY:Campaña nacional de  detección de glaucoma
DESCRIPTION:Este viernes se realizará la 22a. edición de la Campaña Naci
 onal de Detección del Glaucoma 2018. Participarán 158 sedes en todo el
  país.
CATEGORIES:Media coverage
LOCATION:INAREPS\, RUTA 88\, KM 1.5\, MAR DEL PLATA\, ARGENTINA \, 7600\, B
 UENOS AIRES\, Argentina
GEO:-38.0000075;-57.59793939999997
X-APPLE-STRUCTURED-LOCATION;VALUE=URI;X-ADDRESS=RUTA 88\, KM 1.5\, MAR DEL 
 PLATA\, ARGENTINA \, 7600\, BUENOS AIRES\, Argentina;X-APPLE-RADIUS=100;X-
 TITLE=INAREPS:geo:-38.0000075,-57.59793939999997
END:VEVENT
BEGIN:VTIMEZONE
TZID:Europe/Amsterdam
X-LIC-LOCATION:Europe/Amsterdam
BEGIN:STANDARD
DTSTART:20171029T020000
TZOFFSETFROM:+0200
TZOFFSETTO:+0100
TZNAME:CET
END:STANDARD
END:VTIMEZONE
END:VCALENDAR