BEGIN:VCALENDAR
VERSION:2.0
PRODID:-//wp-events-plugin.com//7.2.3.1//EN
TZID:Europe/Amsterdam
X-WR-TIMEZONE:Europe/Amsterdam
BEGIN:VEVENT
UID:2217@worldglaucomaweek.org
DTSTART;TZID=Europe/Amsterdam:20180316T000000
DTEND;TZID=Europe/Amsterdam:20180316T000000
DTSTAMP:20180315T001329Z
URL:https://www.worldglaucomaweek.org/activity/campana-nacional-de-detecci
 on-de-glaucoma-2/
SUMMARY:CAMPAÑA NACIONAL DE DETECCIÓN DE GLAUCOMA
DESCRIPTION:Breve resumen\n-¿A quién está dirigida? A toda la població
 n\, sin límites de edad.\n-¿Cuántos días dura? Solo uno\, el viernes 
 16 de marzo de 2018.\n-¿Tiene algún costo? No\, es absolutamente gratui
 to.\n-¿En qué consiste la campaña? Se efectúan controles de presión 
 intraocular y exámenes de la papila del nervio óptico.\n-¿Tengo que ped
 ir turno? No\, se atiende por orden de llegada.\n-¿Qué sucede como resu
 ltado del examen? Se comunica al paciente en pocos minutos si hay indicio
 s de que está desarrollando glaucoma o no.
CATEGORIES:Public educational
LOCATION:Centro de ojos Cipolletti\, ESPAÑA 657\, CIPOLLETTI\, RIO NEGRO\,
  8324\, Argentina
GEO:-38.9342734;-67.99452689999998
X-APPLE-STRUCTURED-LOCATION;VALUE=URI;X-ADDRESS=ESPAÑA 657\, CIPOLLETTI\, 
 RIO NEGRO\, 8324\, Argentina;X-APPLE-RADIUS=100;X-TITLE=Centro de ojos Cip
 olletti:geo:-38.9342734,-67.99452689999998
END:VEVENT
BEGIN:VTIMEZONE
TZID:Europe/Amsterdam
X-LIC-LOCATION:Europe/Amsterdam
BEGIN:STANDARD
DTSTART:20171029T020000
TZOFFSETFROM:+0200
TZOFFSETTO:+0100
TZNAME:CET
END:STANDARD
END:VTIMEZONE
END:VCALENDAR