BEGIN:VCALENDAR
VERSION:2.0
PRODID:-//wp-events-plugin.com//7.2.3.1//EN
TZID:Europe/Amsterdam
X-WR-TIMEZONE:Europe/Amsterdam
BEGIN:VEVENT
UID:2771@worldglaucomaweek.org
DTSTART;TZID=Europe/Amsterdam:20190311T083000
DTEND;TZID=Europe/Amsterdam:20190315T100000
DTSTAMP:20190309T121013Z
URL:https://www.worldglaucomaweek.org/activity/campana-educativa-por-la-se
 mana-mundial-de-glaucoma-hospital-nacional-guillermo-almenara-essalud/
SUMMARY:Campaña Educativa por la Semana Mundial del Glaucoma- Hospital Nac
 ional Guillermo Almenara\, EsSalud
DESCRIPTION:Semana Mundial del Glaucoma\n10 al 16 de marzo 2019\nHospital N
 acional Guillermo Almenara\nDepartamento de Oftalmología\nUnidad de Glauc
 oma\n\nLugar: Auditorio del Departamento de Oftalmología\nTemario\nLunes 
 11\n08:00 a 08:30 am:	Inauguración de la Semana Mundial del Glaucoma\n			
 Dr. Armando Cauti\n08:30 a 9:00 am:	Conceptos Prácticos del Glaucoma de A
 ngulo Abierto\n			Dr. Armando Cauti\nMartes 12\n08:00 a 08:30 am:	Glaucoma
  agudo y cierre angular\n			Dr. Harold Portilla\nMiércoles 13\n11:30 a 12
 :00 am:	Exámenes para la detección oportuna del Glaucoma\n			Dr. Carlos 
 Rospigliosi\nJueves 14\n08:00 a 08:30 am:	Opciones de tratamiento en Glauc
 oma\n			Dr. Tomás Gálvez\nViernes 15\n08:00 a 08:30 am:	Cuidados de enfe
 rmería en los pacientes con Glaucoma\n			Lic. Ross Cori\n \n
CATEGORIES:Public educational
LOCATION:Hospital Nacional Guillermo Almenara\, Av. Grau 800 \, Lima\, Per
 ú\, Lima 21\, Peru
GEO:-12.0585903;-77.0223818
X-APPLE-STRUCTURED-LOCATION;VALUE=URI;X-ADDRESS=Av. Grau 800 \, Lima\, Per
 ú\, Lima 21\, Peru;X-APPLE-RADIUS=100;X-TITLE=Hospital Nacional Guillermo
  Almenara:geo:-12.0585903,-77.0223818
END:VEVENT
BEGIN:VTIMEZONE
TZID:Europe/Amsterdam
X-LIC-LOCATION:Europe/Amsterdam
BEGIN:STANDARD
DTSTART:20181028T020000
TZOFFSETFROM:+0200
TZOFFSETTO:+0100
TZNAME:CET
END:STANDARD
END:VTIMEZONE
END:VCALENDAR