BEGIN:VCALENDAR
VERSION:2.0
PRODID:-//wp-events-plugin.com//7.2.3.1//EN
TZID:Europe/Amsterdam
X-WR-TIMEZONE:Europe/Amsterdam
BEGIN:VEVENT
UID:1711@worldglaucomaweek.org
DTSTART;TZID=Europe/Amsterdam:20180312T090000
DTEND;TZID=Europe/Amsterdam:20180316T200000
DTSTAMP:20180228T122004Z
URL:https://www.worldglaucomaweek.org/activity/campana-de-revisiones-gratu
 itas-2018-batea-el-glaucoma-invisible/
SUMMARY:Campaña de revisiones gratuitas 2018 "Batea el Glaucoma Invisible"
DESCRIPTION:Bajo el lema #Bateaelglaucomainvisible y coincidiendo con la 
 Semana Mundial del Glaucoma\, entre los días 12 a 16 de marzo\, nos sumar
 emos al "verde" y llevaremos a cabo una nueva campaña de revisiones gratu
 itas en la que mediremos la presión intraocular e informaremos sobre la e
 nfermedad a quienes lo soliciten previamente concertando cita en cualquier
 a de nuestros centros.
ATTACH;FMTTYPE=image/jpeg:https://www.worldglaucomaweek.org/wp-content/upl
 oads/2018/02/Setmana-Mundial-Glaucoma-2018-web.jpg
CATEGORIES:Screening event
LOCATION:Instituto Oftalmológico Integral\, Maria Auxiliadora 25\, Barcelo
 na\, Barcelona\, 08017\, Catalonia\, Spain
GEO:41.3946435;2.1288463999999294
X-APPLE-STRUCTURED-LOCATION;VALUE=URI;X-ADDRESS=Maria Auxiliadora 25\, Barc
 elona\, Barcelona\, 08017\, Catalonia\, Spain;X-APPLE-RADIUS=100;X-TITLE=I
 nstituto Oftalmológico Integral:geo:41.3946435,2.1288463999999294
END:VEVENT
BEGIN:VTIMEZONE
TZID:Europe/Amsterdam
X-LIC-LOCATION:Europe/Amsterdam
BEGIN:STANDARD
DTSTART:20171029T020000
TZOFFSETFROM:+0200
TZOFFSETTO:+0100
TZNAME:CET
END:STANDARD
END:VTIMEZONE
END:VCALENDAR