BEGIN:VCALENDAR
VERSION:2.0
PRODID:-//wp-events-plugin.com//7.2.3.1//EN
TZID:Europe/Amsterdam
X-WR-TIMEZONE:Europe/Amsterdam
BEGIN:VEVENT
UID:2109@worldglaucomaweek.org
DTSTART;TZID=Europe/Amsterdam:20180316T090000
DTEND;TZID=Europe/Amsterdam:20180316T130000
DTSTAMP:20180313T183432Z
URL:https://www.worldglaucomaweek.org/activity/campana-de-deteccion-de-gla
 ucoma-y-salud-visual/
SUMMARY:salauno: Campaña de Detección de Glaucoma y Salud Visual
DESCRIPTION:Campaña de Detección de Glaucoma y Salud Visual\, se llevará
  acabo en la Calle Jueventino Rosas\, esquina con Agustín Lara\, Col. San
  José Tlahuac Ciudad de México . La revisión no tiene costo alguno\, so
 lamente se pide acudir a la ubicación señalada. Y con gusto\, una person
 a de salauno los atenderá.
CATEGORIES:Media coverage
LOCATION:Lecheria Lincosa\, Calle Jueventino Rosas\, esquina con Agustín L
 ara\, Col. San José Tlahuac\, Ciudad de México\, Mexico\, 13020\, Mexico
GEO:19.276222517071776;-98.99624080978697
X-APPLE-STRUCTURED-LOCATION;VALUE=URI;X-ADDRESS=Calle Jueventino Rosas\, es
 quina con Agustín Lara\, Col. San José Tlahuac\, Ciudad de México\, Mex
 ico\, 13020\, Mexico;X-APPLE-RADIUS=100;X-TITLE=Lecheria Lincosa:geo:19.27
 6222517071776,-98.99624080978697
END:VEVENT
BEGIN:VTIMEZONE
TZID:Europe/Amsterdam
X-LIC-LOCATION:Europe/Amsterdam
BEGIN:STANDARD
DTSTART:20171029T020000
TZOFFSETFROM:+0200
TZOFFSETTO:+0100
TZNAME:CET
END:STANDARD
END:VTIMEZONE
END:VCALENDAR