BEGIN:VCALENDAR
VERSION:2.0
PRODID:-//wp-events-plugin.com//7.2.3.1//EN
TZID:Europe/Amsterdam
X-WR-TIMEZONE:Europe/Amsterdam
BEGIN:VEVENT
UID:2113@worldglaucomaweek.org
DTSTART;TZID=Europe/Amsterdam:20180317T090000
DTEND;TZID=Europe/Amsterdam:20180317T130000
DTSTAMP:20180313T183529Z
URL:https://www.worldglaucomaweek.org/activity/campana-de-deteccion-de-gla
 ucoma-y-salud-visual-2/
SUMMARY:salauno: Campaña de Detección de Glaucoma y Salud Visual
DESCRIPTION:Campaña de Detección de Glaucoma y Salud Visual\, se llevará
  en Jonatepec Morelos. La revisión no tiene costo alguno\, solamente se p
 ide acudir a la ubicación señalada. Y con gusto\, una persona de salauno
  los atenderá.
CATEGORIES:Media coverage
LOCATION:Jonatepec Morelos\, Jonatepec Morelos\, Ciudad de México\, Mexico
 \, Mexico
GEO:18.8954874;-99.17329359999997
X-APPLE-STRUCTURED-LOCATION;VALUE=URI;X-ADDRESS=Jonatepec Morelos\, Ciudad 
 de México\, Mexico\, Mexico;X-APPLE-RADIUS=100;X-TITLE=Jonatepec Morelos:
 geo:18.8954874,-99.17329359999997
END:VEVENT
BEGIN:VTIMEZONE
TZID:Europe/Amsterdam
X-LIC-LOCATION:Europe/Amsterdam
BEGIN:STANDARD
DTSTART:20171029T020000
TZOFFSETFROM:+0200
TZOFFSETTO:+0100
TZNAME:CET
END:STANDARD
END:VTIMEZONE
END:VCALENDAR