BEGIN:VCALENDAR
VERSION:2.0
PRODID:-//wp-events-plugin.com//7.2.3.1//EN
TZID:Europe/Amsterdam
X-WR-TIMEZONE:Europe/Amsterdam
BEGIN:VEVENT
UID:1800@worldglaucomaweek.org
DTSTART;TZID=Europe/Amsterdam:20180314T000000
DTEND;TZID=Europe/Amsterdam:20180318T000000
DTSTAMP:20180304T093044Z
URL:https://www.worldglaucomaweek.org/activity/belkin-laser-is-beginning-f
 irst-in-human-clinical-trial-in-israel/
SUMMARY:BELKIN Laser is beginning First In Human clinical trial in Israel
DESCRIPTION:During the World Glaucoma Week March 11-18\, 2018\, BELKIN Lase
 r\, an Israeli startup company developing a one-second laser treatment for
  glaucoma\, is beginning its First In Human clinical trial at the Sheba Me
 dical Center\, the largest hospital in Israel.\n \nDr. Mordechai Goldenfel
 d\, M.D\, medical advisor who served as chairman of the Israeli Glaucoma S
 ociety (2002-2004) will lead the trials\, together with the principal inve
 stigator\, Dr. Alon Skaat\, MD.\nRecipient of a prestigious European Horiz
 on 2020 grant of €2.5M\, BELKIN Laser will continue with the GLAUrious m
 ulticenter clinical trial in Europe (UK and Italy) for Open Angle Glaucoma
 .\n\nBELKIN Laser's vision is to revolutionize the accessibility to glauco
 ma care by offering a very simple one-second laser therapy\, which can be 
 applied by any ophthalmologist as a first-line treatment of choice\, all o
 ver the world. The solution is applicable for the prevalent Open Angle Gla
 ucoma\, and in addition it will pioneer treatment for angle-closure glauco
 ma.\n\n\nhttps://www.youtube.com/watch?v=Im1x8JZ22yI&amp\;t=56s\n
ATTACH;FMTTYPE=image/jpeg:https://www.worldglaucomaweek.org/wp-content/upl
 oads/2018/03/BELKIN-Laser-Team-July-2016c.s..jpeg
CATEGORIES:Awareness
LOCATION:The Sheba Medical Center\, Emek HaEla St 1\, Tel HaShomer\, Tel Av
 iv\, Israel
GEO:32.0488057;34.842573899999934
X-APPLE-STRUCTURED-LOCATION;VALUE=URI;X-ADDRESS=Emek HaEla St 1\, Tel HaSho
 mer\, Tel Aviv\, Israel;X-APPLE-RADIUS=100;X-TITLE=The Sheba Medical Cente
 r:geo:32.0488057,34.842573899999934
END:VEVENT
BEGIN:VTIMEZONE
TZID:Europe/Amsterdam
X-LIC-LOCATION:Europe/Amsterdam
BEGIN:STANDARD
DTSTART:20171029T020000
TZOFFSETFROM:+0200
TZOFFSETTO:+0100
TZNAME:CET
END:STANDARD
END:VTIMEZONE
END:VCALENDAR