BEGIN:VCALENDAR
VERSION:2.0
PRODID:-//wp-events-plugin.com//7.2.3.1//EN
TZID:Europe/Amsterdam
X-WR-TIMEZONE:Europe/Amsterdam
BEGIN:VEVENT
UID:396@worldglaucomaweek.org
DTSTART;TZID=Europe/Amsterdam;VALUE=DATE:20150308
DTEND;TZID=Europe/Amsterdam;VALUE=DATE:20150315
DTSTAMP:20150307T014558Z
URL:https://www.worldglaucomaweek.org/activity/beat-silent-killer-of-visio
 n-glaucoma/
SUMMARY:beat silent killer of vision-- glaucoma
DESCRIPTION:Tentative schedule of glaucoma week activities\n8th march - scr
 eening and awareness lecture for old age home/senior citizens\n9th march- 
 Dr mukesh open discussion form with local channel\n10th march- Dr.mukesh a
 wareness lecture with FM akashvani\n11th march - in-house lecture and post
 er gallery with a drama skit\n12th march- screening camp and public awaren
 ess lecture in kisan mela at amroha\n13th march- press conference\n14th ma
 rch- Reilly 
CATEGORIES:Public educational
LOCATION:C.L GUPTA EYE  INSTITUTE\,\, RAM GANGA VIHAR-PHASE-2\, MORADABAD\,
  \, MORADABAD\, \,UTTAR PRADESH\, 244001\, INDIA\, 244001\, UTTAR PRADESH\
 , India
GEO:28.8688021;78.75798170000007
X-APPLE-STRUCTURED-LOCATION;VALUE=URI;X-ADDRESS=RAM GANGA VIHAR-PHASE-2\, M
 ORADABAD\, \, MORADABAD\, \,UTTAR PRADESH\, 244001\, INDIA\, 244001\, UTTA
 R PRADESH\, India;X-APPLE-RADIUS=100;X-TITLE=C.L GUPTA EYE  INSTITUTE\,:ge
 o:28.8688021,78.75798170000007
END:VEVENT
BEGIN:VTIMEZONE
TZID:Europe/Amsterdam
X-LIC-LOCATION:Europe/Amsterdam
BEGIN:STANDARD
DTSTART:20141026T020000
TZOFFSETFROM:+0200
TZOFFSETTO:+0100
TZNAME:CET
END:STANDARD
END:VTIMEZONE
END:VCALENDAR