BEGIN:VCALENDAR
VERSION:2.0
PRODID:-//wp-events-plugin.com//7.2.3.1//EN
TZID:Europe/Amsterdam
X-WR-TIMEZONE:Europe/Amsterdam
BEGIN:VEVENT
UID:2218@worldglaucomaweek.org
DTSTART;TZID=Europe/Amsterdam:20180314T100000
DTEND;TZID=Europe/Amsterdam:20180314T110000
DTSTAMP:20180315T005308Z
URL:https://www.worldglaucomaweek.org/activity/beat-invisible-glaucoma-b-i
 -g-breakfast/
SUMMARY:Beat Invisible Glaucoma (B.I.G.) Breakfast
DESCRIPTION:
ATTACH;FMTTYPE=image/jpeg:https://www.worldglaucomaweek.org/wp-content/upl
 oads/2018/03/image006.jpg
CATEGORIES:Awareness
LOCATION:Western Sydney Eye Hospital\, Westmead Hospital\, Westmead\, NSW\,
  2145\, NSW\, Australia
GEO:-33.804964;150.98856620000004
X-APPLE-STRUCTURED-LOCATION;VALUE=URI;X-ADDRESS=Westmead Hospital\, Westmea
 d\, NSW\, 2145\, NSW\, Australia;X-APPLE-RADIUS=100;X-TITLE=Western Sydney
  Eye Hospital:geo:-33.804964,150.98856620000004
END:VEVENT
BEGIN:VTIMEZONE
TZID:Europe/Amsterdam
X-LIC-LOCATION:Europe/Amsterdam
BEGIN:STANDARD
DTSTART:20171029T020000
TZOFFSETFROM:+0200
TZOFFSETTO:+0100
TZNAME:CET
END:STANDARD
END:VTIMEZONE
END:VCALENDAR