BEGIN:VCALENDAR
VERSION:2.0
PRODID:-//wp-events-plugin.com//7.2.3.1//EN
TZID:Europe/Amsterdam
X-WR-TIMEZONE:Europe/Amsterdam
BEGIN:VEVENT
UID:2045@worldglaucomaweek.org
DTSTART;TZID=Europe/Amsterdam:20180311T090000
DTEND;TZID=Europe/Amsterdam:20180316T180000
DTSTAMP:20180310T144730Z
URL:https://www.worldglaucomaweek.org/activity/beacon-eye-clinic-rapid-acc
 ess/
SUMMARY:Beacon Eye Clinic Rapid Access
DESCRIPTION:
CATEGORIES:Screening event
LOCATION:Beacon Eye Clinic Rapid Access\, Suite 17\, Beacon Hospital\, Dubl
 in\, County Dublin\, Ireland
GEO:53.276865;-6.219397500000014
X-APPLE-STRUCTURED-LOCATION;VALUE=URI;X-ADDRESS=Suite 17\, Beacon Hospital\
 , Dublin\, County Dublin\, Ireland;X-APPLE-RADIUS=100;X-TITLE=Beacon Eye C
 linic Rapid Access:geo:53.276865,-6.219397500000014
END:VEVENT
BEGIN:VTIMEZONE
TZID:Europe/Amsterdam
X-LIC-LOCATION:Europe/Amsterdam
BEGIN:STANDARD
DTSTART:20171029T020000
TZOFFSETFROM:+0200
TZOFFSETTO:+0100
TZNAME:CET
END:STANDARD
END:VTIMEZONE
END:VCALENDAR