BEGIN:VCALENDAR
VERSION:2.0
PRODID:-//wp-events-plugin.com//7.2.3.1//EN
TZID:Europe/Amsterdam
X-WR-TIMEZONE:Europe/Amsterdam
BEGIN:VEVENT
UID:2171@worldglaucomaweek.org
DTSTART;TZID=Europe/Amsterdam;VALUE=DATE:20180311
DTEND;TZID=Europe/Amsterdam;VALUE=DATE:20180318
DTSTAMP:20180314T035402Z
URL:https://www.worldglaucomaweek.org/activity/baguio-general-hospital-pos
 ter-display/
SUMMARY:Baguio General Hospital Poster Display
DESCRIPTION:
CATEGORIES:Public educational
LOCATION:Baguio General Hospital and Medical Centre\, Kennon Road\, Baguio 
 City\, Philippines
GEO:16.3828113;120.60403680000002
X-APPLE-STRUCTURED-LOCATION;VALUE=URI;X-ADDRESS=Kennon Road\, Baguio City\,
  Philippines;X-APPLE-RADIUS=100;X-TITLE=Baguio General Hospital and Medica
 l Centre:geo:16.3828113,120.60403680000002
END:VEVENT
BEGIN:VTIMEZONE
TZID:Europe/Amsterdam
X-LIC-LOCATION:Europe/Amsterdam
BEGIN:STANDARD
DTSTART:20171029T020000
TZOFFSETFROM:+0200
TZOFFSETTO:+0100
TZNAME:CET
END:STANDARD
END:VTIMEZONE
END:VCALENDAR