BEGIN:VCALENDAR
VERSION:2.0
PRODID:-//wp-events-plugin.com//7.2.3.1//EN
TZID:Europe/Amsterdam
X-WR-TIMEZONE:Europe/Amsterdam
BEGIN:VEVENT
UID:1665@worldglaucomaweek.org
DTSTART;TZID=Europe/Amsterdam:20180315T150000
DTEND;TZID=Europe/Amsterdam:20180315T160000
DTSTAMP:20180216T005245Z
URL:https://www.worldglaucomaweek.org/activity/b-i-g-afternoon-tea/
SUMMARY:B.I.G. Afternoon Tea
DESCRIPTION:Glaucoma patients invited to attend afternoon tea for further i
 nformation about glaucoma and to donate to support research through Glauco
 ma Australia.
CATEGORIES:Awareness
LOCATION:Eye Associates\, Floor 4\, 187 Macquarie St\, Sydney\, NSW\, Austr
 alia\, 2000\, Asia Pacific\, Australia
GEO:-33.8669778;151.21207060000006
X-APPLE-STRUCTURED-LOCATION;VALUE=URI;X-ADDRESS=Floor 4\, 187 Macquarie St\
 , Sydney\, NSW\, Australia\, 2000\, Asia Pacific\, Australia;X-APPLE-RADIU
 S=100;X-TITLE=Eye Associates:geo:-33.8669778,151.21207060000006
END:VEVENT
BEGIN:VTIMEZONE
TZID:Europe/Amsterdam
X-LIC-LOCATION:Europe/Amsterdam
BEGIN:STANDARD
DTSTART:20171029T020000
TZOFFSETFROM:+0200
TZOFFSETTO:+0100
TZNAME:CET
END:STANDARD
END:VTIMEZONE
END:VCALENDAR