BEGIN:VCALENDAR
VERSION:2.0
PRODID:-//wp-events-plugin.com//7.2.3.1//EN
TZID:Europe/Amsterdam
X-WR-TIMEZONE:Europe/Amsterdam
BEGIN:VEVENT
UID:2052@worldglaucomaweek.org
DTSTART;TZID=Europe/Amsterdam:20180312T090000
DTEND;TZID=Europe/Amsterdam:20180317T130000
DTSTAMP:20180310T214224Z
URL:https://www.worldglaucomaweek.org/activity/azione-di-informazione-e-pr
 evenzione-sul-glaucoma-2/
SUMMARY:Azione di informazione e prevenzione sul glaucoma
DESCRIPTION:Azione di informazione tramite Brochre e misurazione della IO
 P ai pazienti.\n\nAll’evento hanno collaborato l’Associazione Nazion
 ale Pazienti per il Glaucoma A.N.P.I.G. ONLUS\,  i Lions Club del distret
 to 108Ta2 ed il comune di Monfalcone.
ATTACH;FMTTYPE=image/jpeg:https://www.worldglaucomaweek.org/wp-content/upl
 oads/2018/03/Locandina-WGW2018-1.png
CATEGORIES:Public educational
LOCATION:Ospedale di Gorizia\, Via Fatebenefratelli\, 34\, Gorizia\, Italy\
 , 34074\, Italy
GEO:45.9351303;13.606701499999986
X-APPLE-STRUCTURED-LOCATION;VALUE=URI;X-ADDRESS=Via Fatebenefratelli\, 34\,
  Gorizia\, Italy\, 34074\, Italy;X-APPLE-RADIUS=100;X-TITLE=Ospedale di Go
 rizia:geo:45.9351303,13.606701499999986
END:VEVENT
BEGIN:VTIMEZONE
TZID:Europe/Amsterdam
X-LIC-LOCATION:Europe/Amsterdam
BEGIN:STANDARD
DTSTART:20171029T020000
TZOFFSETFROM:+0200
TZOFFSETTO:+0100
TZNAME:CET
END:STANDARD
END:VTIMEZONE
END:VCALENDAR