BEGIN:VCALENDAR
VERSION:2.0
PRODID:-//wp-events-plugin.com//7.2.3.1//EN
TZID:Europe/Amsterdam
X-WR-TIMEZONE:Europe/Amsterdam
BEGIN:VEVENT
UID:2326@worldglaucomaweek.org
DTSTART;TZID=Europe/Amsterdam;VALUE=DATE:20190310
DTEND;TZID=Europe/Amsterdam;VALUE=DATE:20190313
DTSTAMP:20190212T125616Z
URL:https://www.worldglaucomaweek.org/activity/awarenessscreening-and-teac
 hing/
SUMMARY:Awareness\,screening and teaching
DESCRIPTION:
CATEGORIES:Public educational
LOCATION:King khalid hospital\, King Khalid hospital\, Tabuk\, Tabuk\, 1274
 0\, Saudi Arabia
GEO:28.3949361;36.54320819999998
X-APPLE-STRUCTURED-LOCATION;VALUE=URI;X-ADDRESS=King Khalid hospital\, Tabu
 k\, Tabuk\, 12740\, Saudi Arabia;X-APPLE-RADIUS=100;X-TITLE=King khalid ho
 spital:geo:28.3949361,36.54320819999998
END:VEVENT
BEGIN:VTIMEZONE
TZID:Europe/Amsterdam
X-LIC-LOCATION:Europe/Amsterdam
BEGIN:STANDARD
DTSTART:20181028T020000
TZOFFSETFROM:+0200
TZOFFSETTO:+0100
TZNAME:CET
END:STANDARD
END:VTIMEZONE
END:VCALENDAR