BEGIN:VCALENDAR
VERSION:2.0
PRODID:-//wp-events-plugin.com//7.2.3.1//EN
TZID:Europe/Amsterdam
X-WR-TIMEZONE:Europe/Amsterdam
BEGIN:VEVENT
UID:2018@worldglaucomaweek.org
DTSTART;TZID=Europe/Amsterdam:20180313T000000
DTEND;TZID=Europe/Amsterdam:20180317T000000
DTSTAMP:20180309T161545Z
URL:https://www.worldglaucomaweek.org/activity/awareness-week/
SUMMARY:Awareness Week
DESCRIPTION:All week long our staff will be wearing glaucoma awareness shir
 ts.  We are also asking our patients to wear green when they come in for 
 their appointments\, are handing out green ribbons\, and are asking patien
 ts to post pictures of themselves wearing green with #glaucomaawareness an
 d #saceyeconsultants
ATTACH;FMTTYPE=image/jpeg:https://www.worldglaucomaweek.org/wp-content/upl
 oads/2018/03/Screen-Shot-2018-03-09-at-8.06.27-AM-2.png
CATEGORIES:Awareness
LOCATION:Sacramento Eye Consultants\, 1515 River Park Drive\, Ste 100\, Sac
 ramento\, CA\, 95815\, Northern California \, United States
GEO:38.5998815;-121.43713639999999
X-APPLE-STRUCTURED-LOCATION;VALUE=URI;X-ADDRESS=1515 River Park Drive\, Ste
  100\, Sacramento\, CA\, 95815\, Northern California \, United States;X-AP
 PLE-RADIUS=100;X-TITLE=Sacramento Eye Consultants:geo:38.5998815,-121.4371
 3639999999
END:VEVENT
BEGIN:VTIMEZONE
TZID:Europe/Amsterdam
X-LIC-LOCATION:Europe/Amsterdam
BEGIN:STANDARD
DTSTART:20171029T020000
TZOFFSETFROM:+0200
TZOFFSETTO:+0100
TZNAME:CET
END:STANDARD
END:VTIMEZONE
END:VCALENDAR