BEGIN:VCALENDAR
VERSION:2.0
PRODID:-//wp-events-plugin.com//7.2.3.1//EN
TZID:Europe/Amsterdam
X-WR-TIMEZONE:Europe/Amsterdam
BEGIN:VEVENT
UID:19151@worldglaucomaweek.org
DTSTART;TZID=Asia/Manila:20250310T000000
DTEND;TZID=Asia/Manila:20250315T000000
DTSTAMP:20250310T004357Z
URL:https://www.worldglaucomaweek.org/activity/awareness-video/
SUMMARY:Awareness Video
DESCRIPTION:
CATEGORIES:Awareness
LOCATION:Healthserv Los Baños Medical Center\, 8817 National Highway\, Los
  Baños \, Laguna\, 4030\, Calabarzon\, Philippines
X-APPLE-STRUCTURED-LOCATION;VALUE=URI;X-ADDRESS=8817 National Highway\, Los
  Baños \, Laguna\, 4030\, Calabarzon\, Philippines;X-APPLE-RADIUS=100;X-T
 ITLE=Healthserv Los Baños Medical Center:geo:0,0
END:VEVENT
BEGIN:VTIMEZONE
TZID:Asia/Manila
X-LIC-LOCATION:Asia/Manila
BEGIN:STANDARD
DTSTART:20240310T000000
TZOFFSETFROM:+0800
TZOFFSETTO:+0800
TZNAME:PST
END:STANDARD
END:VTIMEZONE
END:VCALENDAR