BEGIN:VCALENDAR
VERSION:2.0
PRODID:-//wp-events-plugin.com//7.2.3.1//EN
TZID:Europe/Amsterdam
X-WR-TIMEZONE:Europe/Amsterdam
BEGIN:VEVENT
UID:2711@worldglaucomaweek.org
DTSTART;TZID=Europe/Amsterdam;VALUE=DATE:20190307
DTEND;TZID=Europe/Amsterdam;VALUE=DATE:20190401
DTSTAMP:20190307T072953Z
URL:https://www.worldglaucomaweek.org/activity/awareness-frame-on-facebook
 /
SUMMARY:Awareness Frame on facebook
DESCRIPTION:\n 	It is an important time to spread the word about GLAUCOMA.\
 nALOO is urging people to share this frame on their profile picture and hi
 ghlighting several ways to raise awareness and combat this sight-stealing 
 disease.\nFrame: Glaucoma awareness 2019- A.L.O.O.\nإنه أسبوع ال
 وقاية من الجلوكوما أو ما يعرف بـ"سارق الب
 صر الصامت".\nبهدف التوعية تطلب جمعية مجاز
 ي قياس النظر في لبنان من الجميع استعمال ه
 ذا الكادر الخاص لنشر التوعية لأكبر عدد م
 ن المواطنين.\nFrame: Glaucoma awareness 2019- A.L.O.O.\n#glaucom
 aawareness #adveyesor\n#خلّي_عينك_عليّن\n#جمعية_مجاز
 ي_قياس_النظر_في_لبنان\n
CATEGORIES:Awareness
LOCATION:Lebanon\, Lebanon\, Beirut\, Lebanon
GEO:33.8937913;35.50177669999994
X-APPLE-STRUCTURED-LOCATION;VALUE=URI;X-ADDRESS=Lebanon\, Beirut\, Lebanon;
 X-APPLE-RADIUS=100;X-TITLE=Lebanon:geo:33.8937913,35.50177669999994
END:VEVENT
BEGIN:VTIMEZONE
TZID:Europe/Amsterdam
X-LIC-LOCATION:Europe/Amsterdam
BEGIN:STANDARD
DTSTART:20181028T020000
TZOFFSETFROM:+0200
TZOFFSETTO:+0100
TZNAME:CET
END:STANDARD
BEGIN:DAYLIGHT
DTSTART:20190331T030000
TZOFFSETFROM:+0100
TZOFFSETTO:+0200
TZNAME:CEST
END:DAYLIGHT
END:VTIMEZONE
END:VCALENDAR