BEGIN:VCALENDAR
VERSION:2.0
PRODID:-//wp-events-plugin.com//7.2.3.1//EN
TZID:Europe/Amsterdam
X-WR-TIMEZONE:Europe/Amsterdam
BEGIN:VEVENT
UID:2695@worldglaucomaweek.org
DTSTART;TZID=Europe/Amsterdam:20190312T120000
DTEND;TZID=Europe/Amsterdam:20190312T130000
DTSTAMP:20190306T170044Z
URL:https://www.worldglaucomaweek.org/activity/awareness-event-for-hospita
 l-nurses-and-allied-personnel/
SUMMARY:Awareness Event for Hospital Nurses and Allied Personnel
DESCRIPTION:
CATEGORIES:Public educational
LOCATION:Government Medical College and Hospital\, Sector 32\, Chandigarh\,
  Chandigarh\, 160031\, Chandigarh\, India
GEO:30.7112416;76.79279810000003
X-APPLE-STRUCTURED-LOCATION;VALUE=URI;X-ADDRESS=Sector 32\, Chandigarh\, Ch
 andigarh\, 160031\, Chandigarh\, India;X-APPLE-RADIUS=100;X-TITLE=Governme
 nt Medical College and Hospital:geo:30.7112416,76.79279810000003
END:VEVENT
BEGIN:VTIMEZONE
TZID:Europe/Amsterdam
X-LIC-LOCATION:Europe/Amsterdam
BEGIN:STANDARD
DTSTART:20181028T020000
TZOFFSETFROM:+0200
TZOFFSETTO:+0100
TZNAME:CET
END:STANDARD
END:VTIMEZONE
END:VCALENDAR