BEGIN:VCALENDAR
VERSION:2.0
PRODID:-//wp-events-plugin.com//7.2.3.1//EN
TZID:Europe/Amsterdam
X-WR-TIMEZONE:Europe/Amsterdam
BEGIN:VEVENT
UID:3569@worldglaucomaweek.org
DTSTART;TZID=Europe/Paris:20210208T000000
DTEND;TZID=Europe/Paris:20210213T000000
DTSTAMP:20210228T155825Z
URL:https://www.worldglaucomaweek.org/activity/awareness-7/
SUMMARY:Awareness
DESCRIPTION:Awareness and media coverage activities.
CATEGORIES:Awareness
LOCATION:Lusaka\, UTHs - Eye Hospital\, Lusaka\, Zambia\, 10101\, Southern 
 Africa\, Zambia
GEO:-15.414445;28.292711
X-APPLE-STRUCTURED-LOCATION;VALUE=URI;X-ADDRESS=UTHs - Eye Hospital\, Lusak
 a\, Zambia\, 10101\, Southern Africa\, Zambia;X-APPLE-RADIUS=100;X-TITLE=L
 usaka:geo:-15.414445,28.292711
END:VEVENT
BEGIN:VTIMEZONE
TZID:Europe/Paris
X-LIC-LOCATION:Europe/Paris
BEGIN:STANDARD
DTSTART:20201025T020000
TZOFFSETFROM:+0200
TZOFFSETTO:+0100
TZNAME:CET
END:STANDARD
END:VTIMEZONE
END:VCALENDAR