BEGIN:VCALENDAR
VERSION:2.0
PRODID:-//wp-events-plugin.com//7.2.3.1//EN
TZID:Europe/Amsterdam
X-WR-TIMEZONE:Europe/Amsterdam
BEGIN:VEVENT
UID:2239@worldglaucomaweek.org
DTSTART;TZID=Europe/Amsterdam:20180312T000000
DTEND;TZID=Europe/Amsterdam:20180316T000000
DTSTAMP:20180316T104138Z
URL:https://www.worldglaucomaweek.org/activity/awareness-2/
SUMMARY:Awareness
DESCRIPTION:Family screening\, video displays for public awareness\, TV tal
 k\, radio talk\, newspaper article\,\n\nPoster competition\n\nSkit competi
 tion
CATEGORIES:Media coverage
LOCATION:M &amp\; J Western Regional Institute of Ophthalmology\, Civil Hos
 pital\,Asarwa\, Ahmedabad\, Gujarat\, 380016\, India
GEO:23.0502547;72.60162620000006
X-APPLE-STRUCTURED-LOCATION;VALUE=URI;X-ADDRESS=Civil Hospital\,Asarwa\, Ah
 medabad\, Gujarat\, 380016\, India;X-APPLE-RADIUS=100;X-TITLE=M & J Wester
 n Regional Institute of Ophthalmology:geo:23.0502547,72.60162620000006
END:VEVENT
BEGIN:VTIMEZONE
TZID:Europe/Amsterdam
X-LIC-LOCATION:Europe/Amsterdam
BEGIN:STANDARD
DTSTART:20171029T020000
TZOFFSETFROM:+0200
TZOFFSETTO:+0100
TZNAME:CET
END:STANDARD
END:VTIMEZONE
END:VCALENDAR