BEGIN:VCALENDAR
VERSION:2.0
PRODID:-//wp-events-plugin.com//7.2.3.1//EN
TZID:Europe/Amsterdam
X-WR-TIMEZONE:Europe/Amsterdam
BEGIN:VEVENT
UID:1983@worldglaucomaweek.org
DTSTART;TZID=Europe/Amsterdam:20180316T000000
DTEND;TZID=Europe/Amsterdam:20180316T000000
DTSTAMP:20180309T090424Z
URL:https://www.worldglaucomaweek.org/activity/associate-cebu-eye-speciali
 sts-lay-forum/
SUMMARY:Associate Cebu Eye Specialists Lay Forum
DESCRIPTION:
CATEGORIES:Public educational
LOCATION:Associated Cebu Eye Specialists\, Gorordo Ave\, Cebu City\, Philip
 pines
GEO:10.3214256;123.898955
X-APPLE-STRUCTURED-LOCATION;VALUE=URI;X-ADDRESS=Gorordo Ave\, Cebu City\, P
 hilippines;X-APPLE-RADIUS=100;X-TITLE=Associated Cebu Eye Specialists:geo:
 10.3214256,123.898955
END:VEVENT
BEGIN:VTIMEZONE
TZID:Europe/Amsterdam
X-LIC-LOCATION:Europe/Amsterdam
BEGIN:STANDARD
DTSTART:20171029T020000
TZOFFSETFROM:+0200
TZOFFSETTO:+0100
TZNAME:CET
END:STANDARD
END:VTIMEZONE
END:VCALENDAR