BEGIN:VCALENDAR
VERSION:2.0
PRODID:-//wp-events-plugin.com//7.2.3.1//EN
TZID:Europe/Amsterdam
X-WR-TIMEZONE:Europe/Amsterdam
BEGIN:VEVENT
UID:1637@worldglaucomaweek.org
DTSTART;TZID=Europe/Amsterdam:20180213T000000
DTEND;TZID=Europe/Amsterdam:20180310T000000
DTSTAMP:20180209T174635Z
URL:https://www.worldglaucomaweek.org/activity/article-sent-to-local-and-c
 ommunity-newspapers/
SUMMARY:article sent to  local and community newspapers
DESCRIPTION:A basic awareness article on glaucoma ( English and French)to b
 e sent to local and community newspapers in the greater Montreal area and 
 to certain hospitals in the province of Quebec. One of the articles is tra
 nslated in 11 different languages People are encourages d to view our webs
 ite for educational videos in French\, English and Creole.
CATEGORIES:Media coverage
END:VEVENT
BEGIN:VTIMEZONE
TZID:Europe/Amsterdam
X-LIC-LOCATION:Europe/Amsterdam
BEGIN:STANDARD
DTSTART:20171029T020000
TZOFFSETFROM:+0200
TZOFFSETTO:+0100
TZNAME:CET
END:STANDARD
END:VTIMEZONE
END:VCALENDAR