BEGIN:VCALENDAR
VERSION:2.0
PRODID:-//wp-events-plugin.com//7.2.3.1//EN
TZID:Europe/Amsterdam
X-WR-TIMEZONE:Europe/Amsterdam
BEGIN:VEVENT
UID:3515@worldglaucomaweek.org
DTSTART;TZID=Europe/London;VALUE=DATE:20210307
DTEND;TZID=Europe/London;VALUE=DATE:20210314
DTSTAMP:20210223T130311Z
URL:https://www.worldglaucomaweek.org/activity/anytime-anywhere-campaign/
SUMMARY:Anytime\, Anywhere Campaign
DESCRIPTION:Our campaign for World Glaucoma Week 2021\, entitled 'Anytime\,
  anywhere'\, aims to highlight the free support services provided by Glauc
 oma UK\, and how they can be accessed anywhere\, anytime and by anyone.\n\
 nThe landing page linked above contains further information about our serv
 ices.\n\nThe campaign itself will be distributed via social media\, press 
 and in print media. It'll also see the launch of the 'Glaucoma UK Podcast'
 \, an interview series that aims to shed light on the disease and offer su
 pport for those living with glaucoma.\n
ATTACH;FMTTYPE=image/jpeg:https://www.worldglaucomaweek.org/wp-content/upl
 oads/2021/02/AnytimeAnywhere.png
CATEGORIES:Awareness
LOCATION:Glaucoma UK\, 15 Highpoint Business Village\, Ashford\, Kent\, TN2
 4 8DH\, United Kingdom
GEO:51.15125;0.88585
X-APPLE-STRUCTURED-LOCATION;VALUE=URI;X-ADDRESS=15 Highpoint Business Villa
 ge\, Ashford\, Kent\, TN24 8DH\, United Kingdom;X-APPLE-RADIUS=100;X-TITLE
 =Glaucoma UK:geo:51.15125,0.88585
END:VEVENT
BEGIN:VTIMEZONE
TZID:Europe/London
X-LIC-LOCATION:Europe/London
BEGIN:STANDARD
DTSTART:20201025T010000
TZOFFSETFROM:+0100
TZOFFSETTO:+0000
TZNAME:GMT
END:STANDARD
END:VTIMEZONE
END:VCALENDAR