BEGIN:VCALENDAR
VERSION:2.0
PRODID:-//wp-events-plugin.com//7.2.3.1//EN
TZID:Europe/Amsterdam
X-WR-TIMEZONE:Europe/Amsterdam
BEGIN:VEVENT
UID:2675@worldglaucomaweek.org
DTSTART;TZID=Europe/Amsterdam;VALUE=DATE:20190321
DTEND;TZID=Europe/Amsterdam;VALUE=DATE:20190324
DTSTAMP:20190306T132644Z
URL:https://www.worldglaucomaweek.org/activity/all-russian-ophthalmology-s
 chool-2/
SUMMARY:All-Russian Ophthalmology School
DESCRIPTION:Snegiry Hotel. Near Moscow. Traditional All~Russuan Ophthalmolo
 gy school
ATTACH;FMTTYPE=image/jpeg:https://www.worldglaucomaweek.org/wp-content/upl
 oads/2019/03/RGO_logo-1.jpg
CATEGORIES:Public educational
LOCATION:Moscow\, Snegiry Hotel\, Moscow\, Russia\, Russia
GEO:55.755826;37.6173
X-APPLE-STRUCTURED-LOCATION;VALUE=URI;X-ADDRESS=Snegiry Hotel\, Moscow\, Ru
 ssia\, Russia;X-APPLE-RADIUS=100;X-TITLE=Moscow:geo:55.755826,37.6173
END:VEVENT
BEGIN:VTIMEZONE
TZID:Europe/Amsterdam
X-LIC-LOCATION:Europe/Amsterdam
BEGIN:STANDARD
DTSTART:20181028T020000
TZOFFSETFROM:+0200
TZOFFSETTO:+0100
TZNAME:CET
END:STANDARD
END:VTIMEZONE
END:VCALENDAR