BEGIN:VCALENDAR
VERSION:2.0
PRODID:-//wp-events-plugin.com//7.2.3.1//EN
TZID:Europe/Amsterdam
X-WR-TIMEZONE:Europe/Amsterdam
BEGIN:VEVENT
UID:2807@worldglaucomaweek.org
DTSTART;TZID=Europe/Amsterdam:20190310T000000
DTEND;TZID=Europe/Amsterdam:20190317T000000
DTSTAMP:20190309T175725Z
URL:https://www.worldglaucomaweek.org/activity/adana/
SUMMARY:Adana
DESCRIPTION:Billboard cars will drive at public places at Adana
ATTACH;FMTTYPE=image/jpeg:https://www.worldglaucomaweek.org/wp-content/upl
 oads/2019/03/PHOTO-2019-03-09-17-33-06.jpg
CATEGORIES:Public educational
LOCATION:Adana\, Adana\, Adana\, Turkey
GEO:36.9914194;35.33082850000005
X-APPLE-STRUCTURED-LOCATION;VALUE=URI;X-ADDRESS=Adana\, Adana\, Turkey;X-AP
 PLE-RADIUS=100;X-TITLE=Adana:geo:36.9914194,35.33082850000005
END:VEVENT
BEGIN:VTIMEZONE
TZID:Europe/Amsterdam
X-LIC-LOCATION:Europe/Amsterdam
BEGIN:STANDARD
DTSTART:20181028T020000
TZOFFSETFROM:+0200
TZOFFSETTO:+0100
TZNAME:CET
END:STANDARD
END:VTIMEZONE
END:VCALENDAR