BEGIN:VCALENDAR
VERSION:2.0
PRODID:-//wp-events-plugin.com//7.2.3.1//EN
TZID:Europe/Amsterdam
X-WR-TIMEZONE:Europe/Amsterdam
BEGIN:VEVENT
UID:2076@worldglaucomaweek.org
DTSTART;TZID=Europe/Amsterdam:20180312T000000
DTEND;TZID=Europe/Amsterdam:20180316T000000
DTSTAMP:20180312T053736Z
URL:https://www.worldglaucomaweek.org/activity/a-week-of-glaucoma/
SUMMARY:A week of glaucoma
DESCRIPTION:
CATEGORIES:Screening event
LOCATION:Medikal center “OCPB”\, Krasnoarmeyskay 1\, Orel\, Russia
GEO:52.9770836;36.0679834
X-APPLE-STRUCTURED-LOCATION;VALUE=URI;X-ADDRESS=Krasnoarmeyskay 1\, Orel\, 
 Russia;X-APPLE-RADIUS=100;X-TITLE=Medikal center “OCPB”:geo:52.9770836
 ,36.0679834
END:VEVENT
BEGIN:VTIMEZONE
TZID:Europe/Amsterdam
X-LIC-LOCATION:Europe/Amsterdam
BEGIN:STANDARD
DTSTART:20171029T020000
TZOFFSETFROM:+0200
TZOFFSETTO:+0100
TZNAME:CET
END:STANDARD
END:VTIMEZONE
END:VCALENDAR