BEGIN:VCALENDAR
VERSION:2.0
PRODID:-//wp-events-plugin.com//7.2.3.1//EN
TZID:Europe/Amsterdam
X-WR-TIMEZONE:Europe/Amsterdam
BEGIN:VEVENT
UID:1562@worldglaucomaweek.org
DTSTART;TZID=Europe/Amsterdam:20180215T180000
DTEND;TZID=Europe/Amsterdam:20180215T180000
DTSTAMP:20180201T112330Z
URL:https://www.worldglaucomaweek.org/activity/a-tourmant-in-a-darts/
SUMMARY:A tourmant in a darts
DESCRIPTION:
CATEGORIES:Other
LOCATION:The Associations of blind people\, Poljana  Požarišća 1 \, Zada
 r\, Croatia\, 23000\, Croatia
X-APPLE-STRUCTURED-LOCATION;VALUE=URI;X-ADDRESS=Poljana  Požarišća 1 \, 
 Zadar\, Croatia\, 23000\, Croatia;X-APPLE-RADIUS=100;X-TITLE=The Associati
 ons of blind people:geo:0,0
END:VEVENT
BEGIN:VTIMEZONE
TZID:Europe/Amsterdam
X-LIC-LOCATION:Europe/Amsterdam
BEGIN:STANDARD
DTSTART:20171029T020000
TZOFFSETFROM:+0200
TZOFFSETTO:+0100
TZNAME:CET
END:STANDARD
END:VTIMEZONE
END:VCALENDAR