BEGIN:VCALENDAR
VERSION:2.0
PRODID:-//wp-events-plugin.com//7.2.3.1//EN
TZID:Europe/Amsterdam
X-WR-TIMEZONE:Europe/Amsterdam
BEGIN:VEVENT
UID:2379@worldglaucomaweek.org
DTSTART;TZID=Europe/Amsterdam:20190213T060000
DTEND;TZID=Europe/Amsterdam:20190213T190000
DTSTAMP:20190222T113410Z
URL:https://www.worldglaucomaweek.org/activity/a-tourmant-in-a-darts-2/
SUMMARY:A tourmant in a darts
DESCRIPTION:
CATEGORIES:Awareness
LOCATION:Sport centar Višnjik\, Splitska 16\, Zada\, Croatia\, 23000\, Cro
 atia
GEO:44.1176809;15.244125800000006
X-APPLE-STRUCTURED-LOCATION;VALUE=URI;X-ADDRESS=Splitska 16\, Zada\, Croati
 a\, 23000\, Croatia;X-APPLE-RADIUS=100;X-TITLE=Sport centar Višnjik:geo:4
 4.1176809,15.244125800000006
END:VEVENT
BEGIN:VTIMEZONE
TZID:Europe/Amsterdam
X-LIC-LOCATION:Europe/Amsterdam
BEGIN:STANDARD
DTSTART:20181028T020000
TZOFFSETFROM:+0200
TZOFFSETTO:+0100
TZNAME:CET
END:STANDARD
END:VTIMEZONE
END:VCALENDAR