BEGIN:VCALENDAR
VERSION:2.0
PRODID:-//wp-events-plugin.com//7.2.3.1//EN
TZID:Europe/Amsterdam
X-WR-TIMEZONE:Europe/Amsterdam
BEGIN:VEVENT
UID:1914@worldglaucomaweek.org
DTSTART;TZID=Europe/Amsterdam:20180311T073000
DTEND;TZID=Europe/Amsterdam:20180313T140000
DTSTAMP:20180307T083734Z
URL:https://www.worldglaucomaweek.org/activity/a-screening-event-2/
SUMMARY:A SCREENING EVENT
DESCRIPTION:رسالة توعوية 2
ATTACH;FMTTYPE=image/jpeg:https://www.worldglaucomaweek.org/wp-content/upl
 oads/2018/03/resizeimage.jpg
CATEGORIES:Media coverage
LOCATION:Ministry of Public Health\, Qatar\, Supreme Council of Health Doha
 \, Doha \, Qatar \, Doha\, Qatar
GEO:25.296943791070642;51.50883400910641
X-APPLE-STRUCTURED-LOCATION;VALUE=URI;X-ADDRESS=Supreme Council of Health D
 oha\, Doha \, Qatar \, Doha\, Qatar;X-APPLE-RADIUS=100;X-TITLE=Ministry of
  Public Health\, Qatar:geo:25.296943791070642,51.50883400910641
END:VEVENT
BEGIN:VTIMEZONE
TZID:Europe/Amsterdam
X-LIC-LOCATION:Europe/Amsterdam
BEGIN:STANDARD
DTSTART:20171029T020000
TZOFFSETFROM:+0200
TZOFFSETTO:+0100
TZNAME:CET
END:STANDARD
END:VTIMEZONE
END:VCALENDAR