BEGIN:VCALENDAR
VERSION:2.0
PRODID:-//wp-events-plugin.com//7.2.3.1//EN
TZID:Europe/Amsterdam
X-WR-TIMEZONE:Europe/Amsterdam
BEGIN:VEVENT
UID:2596@worldglaucomaweek.org
DTSTART;TZID=Europe/Amsterdam:20190315T000000
DTEND;TZID=Europe/Amsterdam:20190315T000000
DTSTAMP:20190311T040707Z
URL:https://www.worldglaucomaweek.org/activity/8va-campana-de-deteccion-y-
 control-del-glaucoma/
SUMMARY:8va. Campaña de Detección y Control del Glaucoma
DESCRIPTION:Se realizará la 8va. Campaña de Detección y control del Glau
 coma el día viernes 15 de marzo de 9:00 am a 12:00 pm en las aulas 1 y 4 
 del bloque universitario del Hospital María Auxiliadora\, estará dirigid
 o a pacientes y público en general de nuestra competencia.\n\nEl coordina
 dor de la campaña será el Dr. Conrad Latoche y colaborará el personal d
 el servicio de oftalmología dando charlas preventivas y realizando la tom
 a de la presión intraocular\, asimismo participarán laboratorios farmac
 éuticos donando muestras médicas y prestando equipos como el Icare.
CATEGORIES:Screening event
LOCATION:Hospital María Auxiliadora\, Av Miguel Iglesias 968\, San Juan de
  Miraflores\, Lima\, Lima\, 15800\, Lima\, Peru
GEO:-12.1606065;-76.95873670000003
X-APPLE-STRUCTURED-LOCATION;VALUE=URI;X-ADDRESS=Av Miguel Iglesias 968\, Sa
 n Juan de Miraflores\, Lima\, Lima\, 15800\, Lima\, Peru;X-APPLE-RADIUS=10
 0;X-TITLE=Hospital María Auxiliadora:geo:-12.1606065,-76.95873670000003
END:VEVENT
BEGIN:VTIMEZONE
TZID:Europe/Amsterdam
X-LIC-LOCATION:Europe/Amsterdam
BEGIN:STANDARD
DTSTART:20181028T020000
TZOFFSETFROM:+0200
TZOFFSETTO:+0100
TZNAME:CET
END:STANDARD
END:VTIMEZONE
END:VCALENDAR