BEGIN:VCALENDAR
VERSION:2.0
PRODID:-//wp-events-plugin.com//7.2.3.1//EN
TZID:Europe/Amsterdam
X-WR-TIMEZONE:Europe/Amsterdam
BEGIN:VEVENT
UID:2309@worldglaucomaweek.org
DTSTART;TZID=Europe/Amsterdam;VALUE=DATE:20180308
DTEND;TZID=Europe/Amsterdam;VALUE=DATE:20180312
DTSTAMP:20180327T152150Z
URL:https://www.worldglaucomaweek.org/activity/3th-national-congress-of-gl
 aucoma/
SUMMARY:3th National Congress of glaucoma
DESCRIPTION:web site: www.smg.ma
CATEGORIES:Media coverage
LOCATION:palais des congrès Mogador\, Marrakech\, Marrakech \, Morocco\, M
 orocco
GEO:31.6294723;-7.981084499999952
X-APPLE-STRUCTURED-LOCATION;VALUE=URI;X-ADDRESS=Marrakech\, Marrakech \, Mo
 rocco\, Morocco;X-APPLE-RADIUS=100;X-TITLE=palais des congrès Mogador:geo
 :31.6294723,-7.981084499999952
END:VEVENT
BEGIN:VTIMEZONE
TZID:Europe/Amsterdam
X-LIC-LOCATION:Europe/Amsterdam
BEGIN:STANDARD
DTSTART:20171029T020000
TZOFFSETFROM:+0200
TZOFFSETTO:+0100
TZNAME:CET
END:STANDARD
END:VTIMEZONE
END:VCALENDAR