BEGIN:VCALENDAR
VERSION:2.0
PRODID:-//wp-events-plugin.com//7.2.3.1//EN
TZID:Europe/Amsterdam
X-WR-TIMEZONE:Europe/Amsterdam
BEGIN:VEVENT
UID:2327@worldglaucomaweek.org
DTSTART;TZID=Europe/Amsterdam;VALUE=DATE:20190307
DTEND;TZID=Europe/Amsterdam;VALUE=DATE:20190310
DTSTAMP:20190212T125321Z
URL:https://www.worldglaucomaweek.org/activity/3rd-aisg-international-cong
 ress/
SUMMARY:3rd AISG International Congress
DESCRIPTION:
LOCATION:Lingotto Congress Centre\, 280\, Nizza St\, Turin\, 10126\, Italy
GEO:45.0310553;7.66488419999996
X-APPLE-STRUCTURED-LOCATION;VALUE=URI;X-ADDRESS=280\, Nizza St\, Turin\, 10
 126\, Italy;X-APPLE-RADIUS=100;X-TITLE=Lingotto Congress Centre:geo:45.031
 0553,7.66488419999996
END:VEVENT
BEGIN:VTIMEZONE
TZID:Europe/Amsterdam
X-LIC-LOCATION:Europe/Amsterdam
BEGIN:STANDARD
DTSTART:20181028T020000
TZOFFSETFROM:+0200
TZOFFSETTO:+0100
TZNAME:CET
END:STANDARD
END:VTIMEZONE
END:VCALENDAR