BEGIN:VCALENDAR
VERSION:2.0
PRODID:-//wp-events-plugin.com//7.2.3.1//EN
TZID:Europe/Amsterdam
X-WR-TIMEZONE:Europe/Amsterdam
BEGIN:VEVENT
UID:1511@worldglaucomaweek.org
DTSTART;TZID=Europe/Amsterdam;VALUE=DATE:20180315
DTEND;TZID=Europe/Amsterdam;VALUE=DATE:20180318
DTSTAMP:20170922T115951Z
URL:https://www.worldglaucomaweek.org/activity/2nd-aisg-international-cong
 ress/
SUMMARY:2nd AISG International Congress
DESCRIPTION:2nd AISG International Congress\n(Italian Association for the S
 tudy of Glaucoma)\nMilan\, March\, 15-17\, 2018\nMilan Marriott Hotel\nFor
  further information please click here
ATTACH;FMTTYPE=image/jpeg:https://www.worldglaucomaweek.org/wp-content/upl
 oads/2017/09/2nd-AISG-International-Congress-Milan-March-15-17-2018-.jpg
CATEGORIES:Public educational
LOCATION:Milan Marriott Hotel\, Via Washington\, 66\, Milan\, Italy\, 20146
 \, Milan\, Italy
GEO:45.46136449999999;9.15401380000003
X-APPLE-STRUCTURED-LOCATION;VALUE=URI;X-ADDRESS=Via Washington\, 66\, Milan
 \, Italy\, 20146\, Milan\, Italy;X-APPLE-RADIUS=100;X-TITLE=Milan Marriott
  Hotel:geo:45.46136449999999,9.15401380000003
END:VEVENT
BEGIN:VTIMEZONE
TZID:Europe/Amsterdam
X-LIC-LOCATION:Europe/Amsterdam
BEGIN:STANDARD
DTSTART:20171029T020000
TZOFFSETFROM:+0200
TZOFFSETTO:+0100
TZNAME:CET
END:STANDARD
END:VTIMEZONE
END:VCALENDAR