BEGIN:VCALENDAR
VERSION:2.0
PRODID:-//wp-events-plugin.com//7.2.3.1//EN
TZID:Europe/Amsterdam
X-WR-TIMEZONE:Europe/Amsterdam
BEGIN:VEVENT
UID:1636@worldglaucomaweek.org
DTSTART;TZID=Europe/Amsterdam:20180312T160000
DTEND;TZID=Europe/Amsterdam:20180312T180000
DTSTAMP:20180209T174004Z
URL:https://www.worldglaucomaweek.org/activity/2-hour-free-awareness-confe
 rence/
SUMMARY:2 hour free awareness conference
DESCRIPTION:A free glaucoma information session open to all\, in English on
  March 12th\, 4 pm. This activity is part of an ongoing education program 
 offered since 2006 every month in French and English by the McGill Glaucom
 a Information Centre at the Jewish general hospital\, Montreal.
ATTACH;FMTTYPE=image/jpeg:https://www.worldglaucomaweek.org/wp-content/upl
 oads/2018/02/20160711_165647_320x240.jpg
CATEGORIES:Public educational
LOCATION:Jewish general hospital\, Montreal\, 377 Côte Ste-Catherine Road\
 , Montreal\, Canada\, Canada
GEO:45.5156117;-73.6046005
X-APPLE-STRUCTURED-LOCATION;VALUE=URI;X-ADDRESS=377 Côte Ste-Catherine Roa
 d\, Montreal\, Canada\, Canada;X-APPLE-RADIUS=100;X-TITLE=Jewish general h
 ospital\, Montreal:geo:45.5156117,-73.6046005
END:VEVENT
BEGIN:VTIMEZONE
TZID:Europe/Amsterdam
X-LIC-LOCATION:Europe/Amsterdam
BEGIN:STANDARD
DTSTART:20171029T020000
TZOFFSETFROM:+0200
TZOFFSETTO:+0100
TZNAME:CET
END:STANDARD
END:VTIMEZONE
END:VCALENDAR