BEGIN:VCALENDAR
VERSION:2.0
PRODID:-//wp-events-plugin.com//7.2.3.1//EN
TZID:Europe/Amsterdam
X-WR-TIMEZONE:Europe/Amsterdam
BEGIN:VEVENT
UID:2116@worldglaucomaweek.org
DTSTART;TZID=Europe/Amsterdam:20180317T140000
DTEND;TZID=Europe/Amsterdam:20180322T220000
DTSTAMP:20180312T212930Z
URL:https://www.worldglaucomaweek.org/activity/%d8%ad%d9%85%d9%84%d9%87-%d
 9%85%d8%ac%d8%a7%d9%86%d9%8a%d9%87-%d9%84%d9%84%d9%83%d8%b4%d9%81-%d8%a7%d
 9%84%d9%85%d8%a8%d9%83%d8%b1-%d8%b9%d9%86-%d9%85%d8%b1%d8%b6-%d8%a7%d9%84%
 d9%85%d9%8a%d8%a7%d9%87/
SUMMARY:حمله مجانيه للكشف المبكر عن مرض المي
 اه الزرقاء
DESCRIPTION:[caption id="attachment_7326" align="alignnone" width="208"] sd
 r[/caption]\n\n  
CATEGORIES:Screening event
LOCATION:shafie eye clinic\, shafie eye clinic\, Mansoura\, Outside US and 
 Canada\, 3511\, mansoyra\, Egypt
GEO:31.0409483;31.37847039999997
X-APPLE-STRUCTURED-LOCATION;VALUE=URI;X-ADDRESS=shafie eye clinic\, Mansour
 a\, Outside US and Canada\, 3511\, mansoyra\, Egypt;X-APPLE-RADIUS=100;X-T
 ITLE=shafie eye clinic:geo:31.0409483,31.37847039999997
END:VEVENT
BEGIN:VTIMEZONE
TZID:Europe/Amsterdam
X-LIC-LOCATION:Europe/Amsterdam
BEGIN:STANDARD
DTSTART:20171029T020000
TZOFFSETFROM:+0200
TZOFFSETTO:+0100
TZNAME:CET
END:STANDARD
END:VTIMEZONE
END:VCALENDAR