BEGIN:VCALENDAR
VERSION:2.0
PRODID:-//wp-events-plugin.com//7.2.3.1//EN
TZID:Europe/Amsterdam
X-WR-TIMEZONE:Europe/Amsterdam
BEGIN:VEVENT
UID:2717@worldglaucomaweek.org
DTSTART;TZID=Europe/Amsterdam;VALUE=DATE:20190313
DTEND;TZID=Europe/Amsterdam;VALUE=DATE:20190314
DTSTAMP:20190307T124931Z
URL:https://www.worldglaucomaweek.org/activity/%d8%a7%d9%84%d8%b3%d9%88%d9
 %8a%d8%b1%d9%82/
SUMMARY:السويرق
DESCRIPTION:In this activity we will educate visitor of Outpatient Clinics 
 at King Abdulaziz Medical City in Jeddah about the definition of glaucoma\
 , its causes\, risk factors\, treatment\, prevention. We will also screen 
 visitor through “air puff” to measure eye pressure.\n\n&nbsp\;\n\n&nbs
 p\;
CATEGORIES:Public educational
LOCATION:King Abdulaziz Medical City-Jeddah\, King Abdulaziz Medical City-O
 utpatient Clinics\, Jeddah\, Saudi Arabia\, Middle East\, Saudi Arabia
GEO:21.4222327;39.362753999999995
X-APPLE-STRUCTURED-LOCATION;VALUE=URI;X-ADDRESS=King Abdulaziz Medical City
 -Outpatient Clinics\, Jeddah\, Saudi Arabia\, Middle East\, Saudi Arabia;X
 -APPLE-RADIUS=100;X-TITLE=King Abdulaziz Medical City-Jeddah:geo:21.422232
 7,39.362753999999995
END:VEVENT
BEGIN:VTIMEZONE
TZID:Europe/Amsterdam
X-LIC-LOCATION:Europe/Amsterdam
BEGIN:STANDARD
DTSTART:20181028T020000
TZOFFSETFROM:+0200
TZOFFSETTO:+0100
TZNAME:CET
END:STANDARD
END:VTIMEZONE
END:VCALENDAR