BEGIN:VCALENDAR
VERSION:2.0
PRODID:-//wp-events-plugin.com//7.2.3.1//EN
TZID:Europe/Amsterdam
X-WR-TIMEZONE:Europe/Amsterdam
BEGIN:VEVENT
UID:2304@worldglaucomaweek.org
DTSTART;TZID=Europe/Amsterdam:20180306T000000
DTEND;TZID=Europe/Amsterdam:20180306T000000
DTSTAMP:20180323T191053Z
URL:https://www.worldglaucomaweek.org/activity/%d1%88%d0%ba%d0%be%d0%bb%d0
 %b0-%d0%b4%d0%bb%d1%8f-%d0%bf%d0%b0%d1%86%d0%b8%d0%b5%d0%bd%d1%82%d0%be%d0
 %b2-%d1%81-%d0%b3%d0%bb%d0%b0%d1%83%d0%ba%d0%be%d0%bc%d0%be%d0%b9-%d0%b8-%
 d0%b1%d0%b5%d1%81%d0%bf/
SUMMARY:Школа для пациентов с глаукомой и бе
 сплатное измерение внутриглазного давл
 ения
DESCRIPTION:
CATEGORIES:Screening event
LOCATION:ОБУЗ ГКБ №4\, 1 Меланжевая\, 1/5\, Иванов
 о\, Ивановская\, 153048\, Russia
GEO:56.98826829999999;41.036317199999985
X-APPLE-STRUCTURED-LOCATION;VALUE=URI;X-ADDRESS=1 Меланжевая\, 1/
 5\, Иваново\, Ивановская\, 153048\, Russia;X-APPLE-RADIUS
 =100;X-TITLE=ОБУЗ ГКБ №4:geo:56.98826829999999,41.036317199999985
END:VEVENT
BEGIN:VTIMEZONE
TZID:Europe/Amsterdam
X-LIC-LOCATION:Europe/Amsterdam
BEGIN:STANDARD
DTSTART:20171029T020000
TZOFFSETFROM:+0200
TZOFFSETTO:+0100
TZNAME:CET
END:STANDARD
END:VTIMEZONE
END:VCALENDAR